BEGIN:VCALENDAR
VERSION:2.0
PRODID:-//Tukios.com/
BEGIN:VEVENT
UID:96ecb236-95d8-49cc-b20d-44a688a5400e@www.murphyfuneralservices.com
DTSTAMP:20260422T205103Z
DTSTART:20260502T150000Z
DTEND:20260502T160000Z
SUMMARY:Funeral Service
DESCRIPTION:
URL:https://www.murphyfuneralservices.com/obituaries/gladys-simons
LOCATION:Victor United Methodist Church 106 East Main Street  Victor NY 
	14564
GEO:42.981576;-77.4070351
END:VEVENT
END:VCALENDAR