BEGIN:VCALENDAR
VERSION:2.0
PRODID:-//Tukios.com/
BEGIN:VEVENT
UID:6964c5ba-0a79-4a26-b6b7-47e8c2e11c51@www.murphyfuneralservices.com
DTSTAMP:20260423T194808Z
DTSTART:20260530T170000Z
DTEND:20260530T180000Z
SUMMARY:Memorial Service
DESCRIPTION:
URL:https://www.murphyfuneralservices.com/obituaries/marvin-hill
LOCATION:North Ontario Methodist Church 7200 Ontario Center Road  Ontario 
	NY 14519
GEO:43.2582131;-77.3051598
END:VEVENT
END:VCALENDAR