BEGIN:VCALENDAR
VERSION:2.0
PRODID:-//Tukios.com/
BEGIN:VEVENT
UID:caf5d17a-280a-439d-8fd0-7341bbc9fb98@www.murphyfuneralservices.com
DTSTAMP:20260425T194309Z
DTSTART:20260430T150000Z
DTEND:20260430T160000Z
SUMMARY:Memorial Service
DESCRIPTION:
URL:https://www.murphyfuneralservices.com/obituaries/michael-eames
LOCATION:Good Shepherd Lutheran Church 320 South Pearl Street  
	Canandaigua NY 14424
GEO:42.8792618;-77.2861107
END:VEVENT
END:VCALENDAR