BEGIN:VCALENDAR
VERSION:2.0
PRODID:-//Tukios.com/
BEGIN:VEVENT
UID:1c5dea10-2789-4ffe-99a7-9f106f870007@www.murphyfuneralservices.com
DTSTAMP:20260425T194427Z
DTSTART:20260429T200000Z
DTEND:20260429T230000Z
SUMMARY:Visitation
DESCRIPTION:
URL:https://www.murphyfuneralservices.com/obituaries/michael-eames
LOCATION: 1040 Rte. 31  Macedon NY 14502
GEO:43.0639421;-77.3267798
END:VEVENT
END:VCALENDAR